BEGIN:VCALENDAR
VERSION:2.0
PRODID:-//Evangelischen Kirchengemeide - ECPv6.0.11//NONSGML v1.0//EN
CALSCALE:GREGORIAN
METHOD:PUBLISH
X-WR-CALNAME:Evangelischen Kirchengemeide
X-ORIGINAL-URL:https://evangelisch-in-bueren-fuerstenberg.de
X-WR-CALDESC:Veranstaltungen für Evangelischen Kirchengemeide
REFRESH-INTERVAL;VALUE=DURATION:PT1H
X-Robots-Tag:noindex
X-PUBLISHED-TTL:PT1H
BEGIN:VTIMEZONE
TZID:Europe/Berlin
BEGIN:DAYLIGHT
TZOFFSETFROM:+0100
TZOFFSETTO:+0200
TZNAME:CEST
DTSTART:20210328T010000
END:DAYLIGHT
BEGIN:STANDARD
TZOFFSETFROM:+0200
TZOFFSETTO:+0100
TZNAME:CET
DTSTART:20211031T010000
END:STANDARD
END:VTIMEZONE
BEGIN:VEVENT
DTSTART;TZID=Europe/Berlin:20211031T100000
DTEND;TZID=Europe/Berlin:20211031T100000
DTSTAMP:20260425T131954
CREATED:20211021T115159Z
LAST-MODIFIED:20211021T130809Z
UID:2735-1635674400-1635674400@evangelisch-in-bueren-fuerstenberg.de
SUMMARY:Zentraler Gottesdienst zum Reformationsfest in der Immanuel-Kirche Bad Wünnenberg
DESCRIPTION:
URL:https://evangelisch-in-bueren-fuerstenberg.de/event/zentraler-gottesdienst-zum-reformationsfest-in-der-immanuel-kirche-bad-wuennenberg/
CATEGORIES:Oktober
END:VEVENT
END:VCALENDAR