BEGIN:VCALENDAR
VERSION:2.0
PRODID:-//Evangelischen Kirchengemeide - ECPv6.0.11//NONSGML v1.0//EN
CALSCALE:GREGORIAN
METHOD:PUBLISH
X-ORIGINAL-URL:https://evangelisch-in-bueren-fuerstenberg.de
X-WR-CALDESC:Veranstaltungen für Evangelischen Kirchengemeide
REFRESH-INTERVAL;VALUE=DURATION:PT1H
X-Robots-Tag:noindex
X-PUBLISHED-TTL:PT1H
BEGIN:VTIMEZONE
TZID:Europe/Berlin
BEGIN:DAYLIGHT
TZOFFSETFROM:+0100
TZOFFSETTO:+0200
TZNAME:CEST
DTSTART:20230326T010000
END:DAYLIGHT
BEGIN:STANDARD
TZOFFSETFROM:+0200
TZOFFSETTO:+0100
TZNAME:CET
DTSTART:20231029T010000
END:STANDARD
END:VTIMEZONE
BEGIN:VEVENT
DTSTART;TZID=Europe/Berlin:20231217T090000
DTEND;TZID=Europe/Berlin:20231217T090000
DTSTAMP:20260419T142113
CREATED:20231129T195309Z
LAST-MODIFIED:20231129T195414Z
UID:5727-1702803600-1702803600@evangelisch-in-bueren-fuerstenberg.de
SUMMARY:Gottesdienst in der Ev. Kirche Lichtenau
DESCRIPTION:
URL:https://evangelisch-in-bueren-fuerstenberg.de/event/gottesdienst-mit-taufen-in-der-erloeserkirche-bueren-4/
CATEGORIES:Dezember
END:VEVENT
BEGIN:VEVENT
DTSTART;TZID=Europe/Berlin:20231217T104500
DTEND;TZID=Europe/Berlin:20231217T104500
DTSTAMP:20260419T142113
CREATED:20231129T195531Z
LAST-MODIFIED:20231129T195531Z
UID:5731-1702809900-1702809900@evangelisch-in-bueren-fuerstenberg.de
SUMMARY:Gottesdienst in der Immanuel-Kirche Bad Wünnenberg
DESCRIPTION:
URL:https://evangelisch-in-bueren-fuerstenberg.de/event/gottesdienst-in-der-immanuel-kirche-bad-wuennenberg-19/
CATEGORIES:Dezember
END:VEVENT
END:VCALENDAR