BEGIN:VCALENDAR
VERSION:2.0
PRODID:-//Evangelischen Kirchengemeide - ECPv6.0.11//NONSGML v1.0//EN
CALSCALE:GREGORIAN
METHOD:PUBLISH
X-ORIGINAL-URL:https://evangelisch-in-bueren-fuerstenberg.de
X-WR-CALDESC:Veranstaltungen für Evangelischen Kirchengemeide
REFRESH-INTERVAL;VALUE=DURATION:PT1H
X-Robots-Tag:noindex
X-PUBLISHED-TTL:PT1H
BEGIN:VTIMEZONE
TZID:Europe/Berlin
BEGIN:DAYLIGHT
TZOFFSETFROM:+0100
TZOFFSETTO:+0200
TZNAME:CEST
DTSTART:20230326T010000
END:DAYLIGHT
BEGIN:STANDARD
TZOFFSETFROM:+0200
TZOFFSETTO:+0100
TZNAME:CET
DTSTART:20231029T010000
END:STANDARD
END:VTIMEZONE
BEGIN:VEVENT
DTSTART;TZID=Europe/Berlin:20231226T090000
DTEND;TZID=Europe/Berlin:20231226T090000
DTSTAMP:20260419T142134
CREATED:20231129T201742Z
LAST-MODIFIED:20231129T201742Z
UID:5752-1703581200-1703581200@evangelisch-in-bueren-fuerstenberg.de
SUMMARY:2. Weihnachtsfeiertag: Singegottesdienst mit Abendmahl in der Erlöserkirche Büren
DESCRIPTION:
URL:https://evangelisch-in-bueren-fuerstenberg.de/event/2-weihnachtsfeiertag-singegottesdienst-mit-abendmahl-in-der-erloeserkirche-bueren/
CATEGORIES:Dezember
END:VEVENT
END:VCALENDAR