BEGIN:VCALENDAR
VERSION:2.0
PRODID:-//Evangelischen Kirchengemeide - ECPv6.0.11//NONSGML v1.0//EN
CALSCALE:GREGORIAN
METHOD:PUBLISH
X-ORIGINAL-URL:https://evangelisch-in-bueren-fuerstenberg.de
X-WR-CALDESC:Veranstaltungen für Evangelischen Kirchengemeide
REFRESH-INTERVAL;VALUE=DURATION:PT1H
X-Robots-Tag:noindex
X-PUBLISHED-TTL:PT1H
BEGIN:VTIMEZONE
TZID:Europe/Berlin
BEGIN:DAYLIGHT
TZOFFSETFROM:+0100
TZOFFSETTO:+0200
TZNAME:CEST
DTSTART:20250330T010000
END:DAYLIGHT
BEGIN:STANDARD
TZOFFSETFROM:+0200
TZOFFSETTO:+0100
TZNAME:CET
DTSTART:20251026T010000
END:STANDARD
END:VTIMEZONE
BEGIN:VEVENT
DTSTART;TZID=Europe/Berlin:20250309T093000
DTEND;TZID=Europe/Berlin:20250309T093000
DTSTAMP:20260424T123915
CREATED:20250306T191851Z
LAST-MODIFIED:20250306T191851Z
UID:7605-1741512600-1741512600@evangelisch-in-bueren-fuerstenberg.de
SUMMARY:Gottesdienst  mit anschl. Kirchcafé im Gemeindesaal der Erlöserkirche Büren
DESCRIPTION:
URL:https://evangelisch-in-bueren-fuerstenberg.de/event/gottesdienst-mit-anschl-kirchcafe-im-gemeindesaal-der-erloeserkirche-bueren/
CATEGORIES:März
END:VEVENT
BEGIN:VEVENT
DTSTART;TZID=Europe/Berlin:20250309T104500
DTEND;TZID=Europe/Berlin:20250309T104500
DTSTAMP:20260424T123915
CREATED:20250306T191957Z
LAST-MODIFIED:20250306T191957Z
UID:7607-1741517100-1741517100@evangelisch-in-bueren-fuerstenberg.de
SUMMARY:Gottesdienst mit Abendmahl in der Immanuel-Kirche Bad Wünnenberg
DESCRIPTION:
URL:https://evangelisch-in-bueren-fuerstenberg.de/event/gottesdienst-mit-abendmahl-in-der-immanuel-kirche-bad-wuennenberg-30/
CATEGORIES:März
END:VEVENT
END:VCALENDAR