BEGIN:VCALENDAR
VERSION:2.0
PRODID:-//Evangelischen Kirchengemeide - ECPv6.0.11//NONSGML v1.0//EN
CALSCALE:GREGORIAN
METHOD:PUBLISH
X-ORIGINAL-URL:https://evangelisch-in-bueren-fuerstenberg.de
X-WR-CALDESC:Veranstaltungen für Evangelischen Kirchengemeide
REFRESH-INTERVAL;VALUE=DURATION:PT1H
X-Robots-Tag:noindex
X-PUBLISHED-TTL:PT1H
BEGIN:VTIMEZONE
TZID:Europe/Berlin
BEGIN:DAYLIGHT
TZOFFSETFROM:+0100
TZOFFSETTO:+0200
TZNAME:CEST
DTSTART:20250330T010000
END:DAYLIGHT
BEGIN:STANDARD
TZOFFSETFROM:+0200
TZOFFSETTO:+0100
TZNAME:CET
DTSTART:20251026T010000
END:STANDARD
END:VTIMEZONE
BEGIN:VEVENT
DTSTART;TZID=Europe/Berlin:20250330T100000
DTEND;TZID=Europe/Berlin:20250330T100000
DTSTAMP:20260420T165241
CREATED:20250306T192910Z
LAST-MODIFIED:20250325T143721Z
UID:7619-1743328800-1743328800@evangelisch-in-bueren-fuerstenberg.de
SUMMARY:Zentraler Gottesdienst mit Abendmahl und Verabschiedung von Vikar Röcher in der Immanuel-Kirche Bad Wünnenberg
DESCRIPTION:
URL:https://evangelisch-in-bueren-fuerstenberg.de/event/zentraler-gottesdienst-mit-verabschiedung-von-vikar-roecher-in-der-immanuel-kirche-bad-wuennenberg/
CATEGORIES:März
END:VEVENT
END:VCALENDAR