BEGIN:VCALENDAR
VERSION:2.0
PRODID:-//Evangelischen Kirchengemeide - ECPv6.0.11//NONSGML v1.0//EN
CALSCALE:GREGORIAN
METHOD:PUBLISH
X-WR-CALNAME:Evangelischen Kirchengemeide
X-ORIGINAL-URL:https://evangelisch-in-bueren-fuerstenberg.de
X-WR-CALDESC:Veranstaltungen für Evangelischen Kirchengemeide
REFRESH-INTERVAL;VALUE=DURATION:PT1H
X-Robots-Tag:noindex
X-PUBLISHED-TTL:PT1H
BEGIN:VTIMEZONE
TZID:Europe/Berlin
BEGIN:DAYLIGHT
TZOFFSETFROM:+0100
TZOFFSETTO:+0200
TZNAME:CEST
DTSTART:20220327T010000
END:DAYLIGHT
BEGIN:STANDARD
TZOFFSETFROM:+0200
TZOFFSETTO:+0100
TZNAME:CET
DTSTART:20221030T010000
END:STANDARD
END:VTIMEZONE
BEGIN:VEVENT
DTSTART;TZID=Europe/Berlin:20220903T180000
DTEND;TZID=Europe/Berlin:20220903T180000
DTSTAMP:20260424T150533
CREATED:20220816T080859Z
LAST-MODIFIED:20220816T080859Z
UID:4016-1662228000-1662228000@evangelisch-in-bueren-fuerstenberg.de
SUMMARY:Gottesdienst im Paul-Schneider-Haus Wewelsburg
DESCRIPTION:
URL:https://evangelisch-in-bueren-fuerstenberg.de/event/gottesdienst-im-paul-schneider-haus-wewelsburg-20/
CATEGORIES:September
END:VEVENT
BEGIN:VEVENT
DTSTART;TZID=Europe/Berlin:20220904T090000
DTEND;TZID=Europe/Berlin:20220904T090000
DTSTAMP:20260424T150533
CREATED:20220816T081243Z
LAST-MODIFIED:20220816T081243Z
UID:4024-1662282000-1662282000@evangelisch-in-bueren-fuerstenberg.de
SUMMARY:Gottesdienst mit Abendmahl in der Erlöserkirche Büren
DESCRIPTION:
URL:https://evangelisch-in-bueren-fuerstenberg.de/event/gottesdienst-mit-abendmahl-in-der-erloeserkirche-bueren-8/
CATEGORIES:September
END:VEVENT
BEGIN:VEVENT
DTSTART;TZID=Europe/Berlin:20220904T104500
DTEND;TZID=Europe/Berlin:20220904T104500
DTSTAMP:20260424T150533
CREATED:20220816T081636Z
LAST-MODIFIED:20220816T082620Z
UID:4032-1662288300-1662288300@evangelisch-in-bueren-fuerstenberg.de
SUMMARY:Gottesdienst im/in Garten/ Immanuel-Kirche Bad Wünnenberg
DESCRIPTION:
URL:https://evangelisch-in-bueren-fuerstenberg.de/event/gottesdienst-in-der-immanuel-kirche-bad-wuennenberg-15/
CATEGORIES:September
END:VEVENT
BEGIN:VEVENT
DTSTART;TZID=Europe/Berlin:20220905T190000
DTEND;TZID=Europe/Berlin:20220905T190000
DTSTAMP:20260424T150533
CREATED:20220905T152109Z
LAST-MODIFIED:20220905T152643Z
UID:4175-1662404400-1662404400@evangelisch-in-bueren-fuerstenberg.de
SUMMARY:Wortspiel-              bibelabend Gemeindesaal Büren
DESCRIPTION:
URL:https://evangelisch-in-bueren-fuerstenberg.de/event/wortspielbibelabend/
LOCATION:Gemeindesaal/Erlöserkirche Büren
CATEGORIES:September
END:VEVENT
BEGIN:VEVENT
DTSTART;TZID=Europe/Berlin:20220906T200000
DTEND;TZID=Europe/Berlin:20220906T200000
DTSTAMP:20260424T150533
CREATED:20220905T154627Z
LAST-MODIFIED:20220905T154627Z
UID:4193-1662494400-1662494400@evangelisch-in-bueren-fuerstenberg.de
SUMMARY:Flötenkreis    Gemeindesaal Bad Wünnenberg
DESCRIPTION:
URL:https://evangelisch-in-bueren-fuerstenberg.de/event/floetenkreis-gemeindesaal-bad-wuennenberg/
CATEGORIES:September
END:VEVENT
BEGIN:VEVENT
DTSTART;TZID=Europe/Berlin:20220907T170000
DTEND;TZID=Europe/Berlin:20220907T170000
DTSTAMP:20260424T150533
CREATED:20220905T153318Z
LAST-MODIFIED:20220905T155733Z
UID:4187-1662570000-1662570000@evangelisch-in-bueren-fuerstenberg.de
SUMMARY:Spiele-     nachmittag für Jung und Alt   Paul-Schneider-Haus Wewelsburg
DESCRIPTION:
URL:https://evangelisch-in-bueren-fuerstenberg.de/event/spielenachmittag-fuer-jung-und-alt-paul-schneider-haus-wewelsburg/
CATEGORIES:September
END:VEVENT
BEGIN:VEVENT
DTSTART;TZID=Europe/Berlin:20220908T150000
DTEND;TZID=Europe/Berlin:20220908T150000
DTSTAMP:20260424T150533
CREATED:20220905T152842Z
LAST-MODIFIED:20220905T153017Z
UID:4182-1662649200-1662649200@evangelisch-in-bueren-fuerstenberg.de
SUMMARY:Frauen-               Seniorenkreis Gemeindesaal Büren
DESCRIPTION:
URL:https://evangelisch-in-bueren-fuerstenberg.de/event/frauen-seniorenkreis-gemeindesaal-bueren/
CATEGORIES:September
END:VEVENT
BEGIN:VEVENT
DTSTART;TZID=Europe/Berlin:20220910T100000
DTEND;TZID=Europe/Berlin:20220910T120000
DTSTAMP:20260424T150533
CREATED:20220905T153142Z
LAST-MODIFIED:20220905T153950Z
UID:4185-1662804000-1662811200@evangelisch-in-bueren-fuerstenberg.de
SUMMARY:Kinderkirche  Gemeindesaal Büren
DESCRIPTION:
URL:https://evangelisch-in-bueren-fuerstenberg.de/event/kinderkirche-gemeindesaal-bueren/
CATEGORIES:September
END:VEVENT
BEGIN:VEVENT
DTSTART;TZID=Europe/Berlin:20220910T180000
DTEND;TZID=Europe/Berlin:20220910T180000
DTSTAMP:20260424T150533
CREATED:20220816T080948Z
LAST-MODIFIED:20220816T080948Z
UID:4018-1662832800-1662832800@evangelisch-in-bueren-fuerstenberg.de
SUMMARY:Gottesdienst im Paul-Schneider-Haus Wewelsburg
DESCRIPTION:
URL:https://evangelisch-in-bueren-fuerstenberg.de/event/gottesdienst-im-paul-schneider-haus-wewelsburg-21/
CATEGORIES:September
END:VEVENT
BEGIN:VEVENT
DTSTART;TZID=Europe/Berlin:20220911T090000
DTEND;TZID=Europe/Berlin:20220911T090000
DTSTAMP:20260424T150533
CREATED:20220816T081341Z
LAST-MODIFIED:20220816T081341Z
UID:4026-1662886800-1662886800@evangelisch-in-bueren-fuerstenberg.de
SUMMARY:Gottesdienst in der Erlöserkirche Büren
DESCRIPTION:
URL:https://evangelisch-in-bueren-fuerstenberg.de/event/gottesdienst-in-der-erloeserkirche-bueren-31/
CATEGORIES:September
END:VEVENT
BEGIN:VEVENT
DTSTART;TZID=Europe/Berlin:20220911T104500
DTEND;TZID=Europe/Berlin:20220911T104500
DTSTAMP:20260424T150533
CREATED:20220816T081735Z
LAST-MODIFIED:20220816T082708Z
UID:4034-1662893100-1662893100@evangelisch-in-bueren-fuerstenberg.de
SUMMARY:Gottesdienst mit Abendmahl im/in Garten/ Immanuel-Kirche Bad Wünnenberg
DESCRIPTION:
URL:https://evangelisch-in-bueren-fuerstenberg.de/event/gottesdienst-mit-abendmahl-in-der-immanuel-kirche-bad-wuennenberg-9/
CATEGORIES:September
END:VEVENT
BEGIN:VEVENT
DTSTART;TZID=Europe/Berlin:20220914T183000
DTEND;TZID=Europe/Berlin:20220914T183000
DTSTAMP:20260424T150533
CREATED:20220905T155212Z
LAST-MODIFIED:20220905T155212Z
UID:4195-1663180200-1663180200@evangelisch-in-bueren-fuerstenberg.de
SUMMARY:Qi Gong   Gemeindesaal Bad Wünnenberg
DESCRIPTION:
URL:https://evangelisch-in-bueren-fuerstenberg.de/event/qi-gong-gemeindesaal-bad-wuennenberg/
CATEGORIES:September
END:VEVENT
BEGIN:VEVENT
DTSTART;TZID=Europe/Berlin:20220916T183000
DTEND;TZID=Europe/Berlin:20220916T183000
DTSTAMP:20260424T150533
CREATED:20220905T154146Z
LAST-MODIFIED:20220905T154146Z
UID:4189-1663353000-1663353000@evangelisch-in-bueren-fuerstenberg.de
SUMMARY:Spirituelles Kochen für Männer      Paul-Schneider-Haus Wewelsburg
DESCRIPTION:
URL:https://evangelisch-in-bueren-fuerstenberg.de/event/spirituelles-kochen-fuer-maenner-paul-schneider-haus-wewelsburg/
CATEGORIES:September
END:VEVENT
BEGIN:VEVENT
DTSTART;TZID=Europe/Berlin:20220917T180000
DTEND;TZID=Europe/Berlin:20220917T180000
DTSTAMP:20260424T150533
CREATED:20220816T081049Z
LAST-MODIFIED:20220914T080712Z
UID:4020-1663437600-1663437600@evangelisch-in-bueren-fuerstenberg.de
SUMMARY:Gottesdienst mit Abendmahl im Paul-Schneider-Haus Wewelsburg
DESCRIPTION:
URL:https://evangelisch-in-bueren-fuerstenberg.de/event/gottesdienst-mit-abendmahl-m-paul-schneider-haus-wewelsburg/
CATEGORIES:September
END:VEVENT
BEGIN:VEVENT
DTSTART;TZID=Europe/Berlin:20220918T090000
DTEND;TZID=Europe/Berlin:20220918T090000
DTSTAMP:20260424T150533
CREATED:20220816T081526Z
LAST-MODIFIED:20220914T080621Z
UID:4030-1663491600-1663491600@evangelisch-in-bueren-fuerstenberg.de
SUMMARY:Gottesdienst in der Erlöserkirche Büren
DESCRIPTION:
URL:https://evangelisch-in-bueren-fuerstenberg.de/event/gottesdienst-in-der-erloeserkirche-bueren-33/
CATEGORIES:September
END:VEVENT
BEGIN:VEVENT
DTSTART;TZID=Europe/Berlin:20220918T104500
DTEND;TZID=Europe/Berlin:20220918T104500
DTSTAMP:20260424T150533
CREATED:20220816T082130Z
LAST-MODIFIED:20220816T083023Z
UID:4036-1663497900-1663497900@evangelisch-in-bueren-fuerstenberg.de
SUMMARY:Familien-Gottesd. im/in Garten/ Immanuel-Kirche Bad Wünnenberg
DESCRIPTION:
URL:https://evangelisch-in-bueren-fuerstenberg.de/event/familien-gottesd-in-der-immanuel-kirche-bad-wuennenberg-2/
CATEGORIES:September
END:VEVENT
BEGIN:VEVENT
DTSTART;TZID=Europe/Berlin:20220923T190000
DTEND;TZID=Europe/Berlin:20220923T190000
DTSTAMP:20260424T150533
CREATED:20220905T154243Z
LAST-MODIFIED:20220905T154243Z
UID:4191-1663959600-1663959600@evangelisch-in-bueren-fuerstenberg.de
SUMMARY:Spieleabend  Paul-Schneider-Haus Wewelsburg
DESCRIPTION:
URL:https://evangelisch-in-bueren-fuerstenberg.de/event/spieleabend-paul-schneider-haus-wewelsburg/
CATEGORIES:September
END:VEVENT
BEGIN:VEVENT
DTSTART;TZID=Europe/Berlin:20220924T180000
DTEND;TZID=Europe/Berlin:20220924T180000
DTSTAMP:20260424T150533
CREATED:20220816T081127Z
LAST-MODIFIED:20220816T081127Z
UID:4022-1664042400-1664042400@evangelisch-in-bueren-fuerstenberg.de
SUMMARY:Gottesdienst im Paul-Schneider-Haus Wewelsburg
DESCRIPTION:
URL:https://evangelisch-in-bueren-fuerstenberg.de/event/gottesdienst-im-paul-schneider-haus-wewelsburg-22/
CATEGORIES:September
END:VEVENT
BEGIN:VEVENT
DTSTART;TZID=Europe/Berlin:20220925T090000
DTEND;TZID=Europe/Berlin:20220925T090000
DTSTAMP:20260424T150533
CREATED:20220816T082324Z
LAST-MODIFIED:20220816T082324Z
UID:4038-1664096400-1664096400@evangelisch-in-bueren-fuerstenberg.de
SUMMARY:Jubelkonfirmation mit Abendmahl in der Erlöserkirche Büren
DESCRIPTION:Jubelkonfirmation ( Golden bis Gnaden)
URL:https://evangelisch-in-bueren-fuerstenberg.de/event/jubelkonfirmation-mit-abendmahl-in-der-erloeserkirche-bueren/
CATEGORIES:September
END:VEVENT
BEGIN:VEVENT
DTSTART;TZID=Europe/Berlin:20220925T104500
DTEND;TZID=Europe/Berlin:20220925T104500
DTSTAMP:20260424T150533
CREATED:20220816T082520Z
LAST-MODIFIED:20220816T082520Z
UID:4040-1664102700-1664102700@evangelisch-in-bueren-fuerstenberg.de
SUMMARY:Jubelkonfirmation mit Abendmahl in der Immanuel-Kirche Bad Wünnenberg
DESCRIPTION:(10 Jahre – letzte Sommerkirche 2022)
URL:https://evangelisch-in-bueren-fuerstenberg.de/event/jubelkonfirmation-mit-abendmahl-in-der-immanuel-kirche-bad-wuennenberg/
CATEGORIES:September
END:VEVENT
BEGIN:VEVENT
DTSTART;TZID=Europe/Berlin:20220928T183000
DTEND;TZID=Europe/Berlin:20220928T183000
DTSTAMP:20260424T150533
CREATED:20220905T155317Z
LAST-MODIFIED:20220905T155317Z
UID:4197-1664389800-1664389800@evangelisch-in-bueren-fuerstenberg.de
SUMMARY:Qi Gong    Gemeindesaal Bad Wünnenberg
DESCRIPTION:
URL:https://evangelisch-in-bueren-fuerstenberg.de/event/qi-gong-gemeindesaal-bad-wuennenberg-2/
CATEGORIES:September
END:VEVENT
END:VCALENDAR